Workbook

Sheet Minimis
A1: Anexa 8 -Buget plan de afaceri
A3: Nume prenume participant:
A5: Categoria de cheltuială | C5: U.M. | D5: Cantitate | E5: Preț unitar FĂRĂ tva | F5: Valoare totală fără TVA | G5: TVA | H5: Valoare totală nerambursabilă cu tva | I5: Valoare contribuție proprie
A6: 1.Cheltuieli salariale | D6: =SUM(D7:D10) -> 0 | E6: =SUM(E7:E10) -> 0 | F6: =SUM(F7:F10) -> 0 | H6: =SUM(H7:H10) -> 0 | I6: =SUM(I7:I10) -> 0
A7: 1.1 | F7: =D7*E7 -> 0 | H7: =(F7+F7*G7)-I7 -> 0
A8: 1.2 | F8: =D8*E8 -> 0 | H8: =(F8+F8*G8)-I8 -> 0
A9: 1.3 | F9: =D9*E9 -> 0 | H9: =(F9+F9*G9)-I9 -> 0
A10: 1.4 | F10: =D10*E10 -> 0 | H10: =(F10+F10*G10)-I10 -> 0
A11: 2. Cheltuieli aferente diverselor achiziţii de servicii specializate, pentru care beneficiarul ajutorului de minimis nu are expertiza necesară | D11: =SUM(D12:D23) -> 0 | E11: =SUM(E12:E23) -> 0 | F11: =SUM(F12:F23) -> 0 | H11: =SUM(H12:H23) -> 0 | I11: =SUM(I12:I23) -> 0
A12: 2.1 | F12: =D12*E12 -> 0 | H12: =(F12+F12*G12)-I12 -> 0
A13: 2.2 | F13: =D13*E13 -> 0 | H13: =(F13+F13*G13)-I13 -> 0
A14: 2.3 | F14: =D14*E14 -> 0 | H14: =(F14+F14*G14)-I14 -> 0
A15: 2.4 | F15: =D15*E15 -> 0 | H15: =(F15+F15*G15)-I15 -> 0
A16: 2.5 | F16: =D16*E16 -> 0 | H16: =(F16+F16*G16)-I16 -> 0
A17: 2.6 | F17: =D17*E17 -> 0 | H17: =(F17+F17*G17)-I17 -> 0
A18: 2.7 | F18: =D18*E18 -> 0 | H18: =(F18+F18*G18)-I18 -> 0
A19: 2.8 | F19: =D19*E19 -> 0 | H19: =(F19+F19*G19)-I19 -> 0
A20: 2.9 | F20: =D20*E20 -> 0 | H20: =(F20+F20*G20)-I20 -> 0
A21: 2.1 | F21: =D21*E21 -> 0 | H21: =(F21+F21*G21)-I21 -> 0
A22: 2.11 | F22: =D22*E22 -> 0 | H22: =(F22+F22*G22)-I22 -> 0
A23: 2.12 | F23: =D23*E23 -> 0 | H23: =(F23+F23*G23)-I23 -> 0
A24: 3.Cheltuieli cu achiziția de active fixe corporale (altele decât terenuri și imobile), obiecte de inventar, materii prime și materiale, inclusiv materiale consumabile, alte cheltuieli pentru investiţii necesare funcţionării întreprinderilor | D24: =SUM(D25:D30) -> 0 | E24: =SUM(E25:E30) -> 0 | F24: =SUM(F25:F30) -> 0 | H24: =SUM(H25:H30) -> 0 | I24: =SUM(I25:I30) -> 0
A25: 3.1 | F25: =D25*E25 -> 0 | H25: =(F25+F25*G25)-I25 -> 0
A26: 3.2 | F26: =D26*E26 -> 0 | H26: =(F26+F26*G26)-I26 -> 0
A27: 3.3 | F27: =D27*E27 -> 0 | H27: =(F27+F27*G27)-I27 -> 0
A28: 3.4 | F28: =D28*E28 -> 0 | H28: =(F28+F28*G28)-I28 -> 0
A29: 3.5 | F29: =D29*E29 -> 0 | H29: =(F29+F29*G29)-I29 -> 0
A30: 3.6 | F30: =D30*E30 -> 0 | H30: =(F30+F30*G30)-I30 -> 0
A31: 4.Cheltuieli cu închirierea de sedii (inclusiv depozite), spații pentru desfășurarea diverselor activități ale întreprinderii, echipamente, vehicule, diverse bunuri | D31: =SUM(D32:D39) -> 0 | E31: =SUM(E32:E39) -> 0 | F31: =SUM(F32:F39) -> 0 | H31: =SUM(H32:H39) -> 0 | I31: =SUM(I32:I39) -> 0
A32: 4.1 | F32: =D32*E32 -> 0 | H32: =(F32+F32*G32)-I32 -> 0
A33: 4.2 | F33: =D33*E33 -> 0 | H33: =(F33+F33*G33)-I33 -> 0
A34: 4.3 | F34: =D34*E34 -> 0 | H34: =(F34+F34*G34)-I34 -> 0
A35: 4.4 | F35: =D35*E35 -> 0 | H35: =(F35+F35*G35)-I35 -> 0
A36: 4.5 | F36: =D36*E36 -> 0 | H36: =(F36+F36*G36)-I36 -> 0
A37: 4.6 | F37: =D37*E37 -> 0 | H37: =(F37+F37*G37)-I37 -> 0
A38: 4.7 | F38: =D38*E38 -> 0 | H38: =(F38+F38*G38)-I38 -> 0
A39: 4.8 | F39: =D39*E39 -> 0 | H39: =(F39+F39*G39)-I39 -> 0
A40: 5.Cheltuieli de informare şi publicitate aferente funcţionării întreprinderilor | D40: =SUM(D41:D48) -> 0 | E40: =SUM(E41:E48) -> 0 | F40: =SUM(F41:F48) -> 0 | H40: =SUM(H41:H48) -> 0 | I40: =SUM(I41:I48) -> 0
A41: 5.1 | F41: =D41*E41 -> 0 | H41: =(F41+F41*G41)-I41 -> 0
A42: 5.2 | F42: =D42*E42 -> 0 | H42: =(F42+F42*G42)-I42 -> 0
...

Sheet Sheet1
B2: 0 | C2: 0.01 | D2: Buc.
B3: 0.05 | C3: 0.16 | D3: Luna.
B4: 0.09 | D4: Ore
B5: 0.19 | D5: Set.
D6: Kg.
D7: Eveniment

Sheet Proiectii financiare
A1: Anexa 8 -Buget plan de afaceri - proiectii financiare
A3: Nume prenume participant: | C3: =Minimis!C3 -> 0
A5: Prognoza veniturilor
A6: Nr.crt | B6: Categoria | C6: Total 2025 | D6: Total 2026 | E6: Total 2027 | F6: Total 2028
A7: Vanzari fizice previzionate
A8: 1
A9: 2
A10: 3
A11: 4
B12: Total venituri din productie/ servicii/ comert | C12: =SUM(C8:C11) -> 0 | D12: =SUM(D8:D11) -> 0 | E12: =SUM(E8:E11) -> 0 | F12: =SUM(F8:F11) -> 0
A13: 5 | B13: Venituri din servicii
A14: 6 | B14: Venituri din vanzarea marfurilor
A15: 7 | B15: Venituri din subventii de exploatare aferente cifrei de afaceri nete( finantarea nerambursabila) | C15: =Minimis!C70 -> 0
A16: 8 | B16: Venituri din contributie proprie | C16: =Minimis!C71 -> 0
A17: 9 | B17: Venituri din alte activitati
A18: 10 | B18: Alte venituri din exploatare
B19: Total venituri din exploatare | C19: =SUM(C13:C18) -> 0 | D19: =SUM(D13:D18) -> 0 | E19: =SUM(E13:E18) -> 0 | F19: =SUM(F13:F18) -> 0
A20: 11 | B20: Venituri financiare
A21: TOTAL VENITURI | C21: =C12+C19+C20 -> 0 | D21: =D12+D19+D20 -> 0 | E21: =E12+E19+E20 -> 0 | F21: =F12+F19+F20 -> 0
A24: Prognoza cheltuielilor
A25: Nr. Crt. | B25: Categoria | C25: Total 2025 | D25: Total 2026 | E25: Total 2027 | F25: Total 2028
A26: 1 | B26: Cheltuieli cu materiile prime si cu materialele consumabile
A27: 2 | B27: Cheltuieli materiale
A28: 3 | B28: Cheltuieli cu utilitatile
A29: Total cheltuieli materiale | C29: =SUM(C26:C28) -> 0 | D29: =SUM(D26:D28) -> 0 | E29: =SUM(E26:E28) -> 0 | F29: =SUM(F26:F28) -> 0
A30: 4 | B30: Cheltuieli cu personalul angajat
A31: 5 | B31: Cheltuieli cu asigurarile si protectia sociala
A32: Total Cheltuieli cu personalul | C32: =SUM(C30:C31) -> 0 | D32: =SUM(D30:D31) -> 0 | E32: =SUM(E30:E31) -> 0 | F32: =SUM(F30:F31) -> 0
A33: 6 | B33: Cheltuieli cu marfurile
A34: 7 | B34: Cheltuieli cu serviciile
A35: 8 | B35: Cheltuieli cu investitiile
A36: 9 | B36: Cheltuieli cu amortizarea
A37: 10 | B37: Cheltuieli cu impozite si taxe
A38: 11 | B38: Alte cheltuieli de exploatare
A39: Total cheltuieli pentru exploatare | C39: =SUM(C33:C38) -> 0 | D39: =SUM(D33:D38) -> 0 | E39: =SUM(E33:E38) -> 0 | F39: =SUM(F33:F38) -> 0
A40: 12 | B40: Cheltuieli financiare
A41: TOTAL CHELTUIELI | C41: =C29+C32+C39+C40 -> 0 | D41: =D29+D32+D39+D40 -> 0 | E41: =E29+E32+E39+E40 -> 0 | F41: =F29+F32+F39+F40 -> 0
A44: Semnatura:

Sheet Cont profit si pierdere 
A1: Anexa 8 -Buget plan de afaceri - cont profit si pierdere
B3: Nume prenume participant: | D3: =Minimis!D3 -> 0
A5: CONT PROFIT SI PIERDERE
A6: Nr. Crt. | B6: Categoria | C6: Total 2025 | D6: Total 2026 | E6: Total 2027 | F6: Total 2028
A7: Venituri din exploatare
A8: 1 | B8: Cifra de afaceri (productie,servicii,marfuri) | C8: ='Proiectii financiare'!C13+'Proiectii financiare'!C14+'Proiectii financiare'!C12 -> 0 | D8: ='Proiectii financiare'!D13+'Proiectii financiare'!D14+'Proiectii financiare'!D12 -> 0 | E8: ='Proiectii financiare'!E13+'Proiectii financiare'!E14+'Proiectii financiare'!E12 -> 0 | F8: ='Proiectii financiare'!F13+'Proiectii financiare'!F14+'Proiectii financiare'!F12 -> 0
A9: 2 | B9: Venituri din subventii aferente cifrei de afaceri(finantare nerambursabila) | C9: ='Proiectii financiare'!C15 -> 0 | D9: ='Proiectii financiare'!D15 -> 0 | E9: ='Proiectii financiare'!E15 -> 0 | F9: ='Proiectii financiare'!F15 -> 0
A10: 3 | B10: Venituri din contributie proprie | C10: ='Proiectii financiare'!C16 -> 0 | D10: ='Proiectii financiare'!D16 -> 0 | E10: ='Proiectii financiare'!E16 -> 0 | F10: ='Proiectii financiare'!F16 -> 0
A11: 4 | B11: Alte venituri din exploatare | C11: ='Proiectii financiare'!C17+'Proiectii financiare'!C18 -> 0 | D11: ='Proiectii financiare'!D17+'Proiectii financiare'!D18 -> 0 | E11: ='Proiectii financiare'!E17+'Proiectii financiare'!E18 -> 0 | F11: ='Proiectii financiare'!F17+'Proiectii financiare'!F18 -> 0
A12: Total Venituri din exploatare | C12: =SUM(C8:C11) -> 0 | D12: =SUM(D8:D11) -> 0 | E12: =SUM(E8:E11) -> 0 | F12: =SUM(F8:F11) -> 0
A13: Cheltuieli pentru exploatare
A14: 5 | B14: Cheltuieli materiale – total | C14: ='Proiectii financiare'!C29 -> 0 | D14: ='Proiectii financiare'!D29 -> 0 | E14: ='Proiectii financiare'!E29 -> 0 | F14: ='Proiectii financiare'!F29 -> 0
A15: 6 | B15: Cheltuieli cu personalul – total | C15: ='Proiectii financiare'!C32 -> 0 | D15: ='Proiectii financiare'!D32 -> 0 | E15: ='Proiectii financiare'!E32 -> 0 | F15: ='Proiectii financiare'!F32 -> 0
A16: 7 | B16: Cheltuieli cu marfuri si servicii | C16: ='Proiectii financiare'!C34+'Proiectii financiare'!C33 -> 0 | D16: ='Proiectii financiare'!D34+'Proiectii financiare'!D33 -> 0 | E16: ='Proiectii financiare'!E34+'Proiectii financiare'!E33 -> 0 | F16: ='Proiectii financiare'!F34+'Proiectii financiare'!F33 -> 0
A17: 8 | B17: Cheltuieli cu investitiile | C17: ='Proiectii financiare'!C35 -> 0 | D17: ='Proiectii financiare'!D35 -> 0 | E17: ='Proiectii financiare'!E35 -> 0 | F17: ='Proiectii financiare'!F35 -> 0
A18: 9 | B18: Cheltuieli cu amortizarea | C18: ='Proiectii financiare'!C36 -> 0 | D18: ='Proiectii financiare'!D36 -> 0 | E18: ='Proiectii financiare'!E36 -> 0 | F18: ='Proiectii financiare'!F36 -> 0
A19: 10 | B19: Cheltuieli cu impozite si taxe | C19: ='Proiectii financiare'!C37 -> 0 | D19: ='Proiectii financiare'!D37 -> 0 | E19: ='Proiectii financiare'!E37 -> 0 | F19: ='Proiectii financiare'!F37 -> 0
A20: 11 | B20: Alte cheltuieli de exploatare | C20: ='Proiectii financiare'!C38 -> 0 | D20: ='Proiectii financiare'!D38 -> 0 | E20: ='Proiectii financiare'!E38 -> 0 | F20: ='Proiectii financiare'!F38 -> 0
A21: Total Cheltuieli pentru exploatare | C21: =SUM(C14:C20) -> 0 | D21: =SUM(D14:D20) -> 0 | E21: =SUM(E14:E20) -> 0 | F21: =SUM(F14:F20) -> 0
A23: Rezultatul din exploatare | C23: =C12-C21 -> 0 | D23: =D12-D21 -> 0 | E23: =E12-E21 -> 0 | F23: =F12-F21 -> 0
A25: Venituri financiare
A26: 15 | B26: Venituri financiare – total
A27: Cheltuieli financiare
A28: 16 | B28: Cheltuieli financiare-total | C28: =C21 -> 0 | D28: =D21 -> 0 | E28: =E21 -> 0 | F28: =F21 -> 0
A29: 17 | B29: Rezultatul financiar | C29: =C12 -> 0 | D29: =D12 -> 0 | E29: =E12 -> 0 | F29: =F12 -> 0
A30: 18 | B30: Rezultatul brut | C30: =C29-C28 -> 0 | D30: =D29-D28 -> 0 | E30: =E29-E28 -> 0 | F30: =F29-F28 -> 0
A31: 19 | B31: Impozitul pe profit / cifra de afaceri | C31: =IF(G31=1%,C29*1%,C30*16%) -> 0 | D31: =IF(H31=1%,D29*1%,D30*16%) -> 0 | E31: =IF(I31=1%,E29*1%,E30*16%) -> 0 | F31: =IF(J31=1%,F29*1%,F30*16%) -> 0 | G31: 0.01
A32: 20 | B32: Rezultatul net al exercitiului financiar | C32: =C30-C31 -> 0 | D32: =D30-D31 -> 0 | E32: =E30-E31 -> 0 | F32: =F30-F31 -> 0
B34: Anul 0 este anul 2025 si cuprinde primele 5 luni de implementare al planului de afaceri 01 august 2025-31 decembrie 2025
B35: Anul 1 este primul an fiscal întreg încheiat, respectiv 2026
B36: Anul 2 este al doilea an fiscal întreg încheiat, respectiv 2027
B37: Anul 3 este al treilea an fiscal întreg încheiat, respectiv 2028
B40: Semnatura:
